BEGIN:VCALENDAR
VERSION:2.0
PRODID:-//wp-events-plugin.com//7.2.2.1//EN
TZID:America/Sao_Paulo
X-WR-TIMEZONE:America/Sao_Paulo
BEGIN:VEVENT
UID:81@institutoatmodanai.com.br
DTSTART;TZID=America/Sao_Paulo:20260518T190000
DTEND;TZID=America/Sao_Paulo:20260518T220000
DTSTAMP:20260120T193722Z
URL:https://institutoatmodanai.com.br/events/aromaterapia-aplicada-a-masso
 terapia-2/
SUMMARY:AROMATERAPIA APLICADA À MASSOTERAPIA
DESCRIPTION:AROMATERAPIA APLICADA À MASSOTERAPIA\nDias: 18\, 20\, 25 e 27/
 05\, 01/06 (noturno)\nR$590\,00 (pix) ou até 5x de R$131\,10\nSaiba mais 
 &gt\;&gt\;&gt\;
CATEGORIES:Curso Livre
LOCATION:Instituto Atmo Danai\, Edifício Via Capital\, SBN Q 2 Bloco F SAL
 A 1004\, Brasília \, DF\, 70040-911\, Brasil
X-APPLE-STRUCTURED-LOCATION;VALUE=URI;X-ADDRESS=Edifício Via Capital\, SBN
  Q 2 Bloco F SALA 1004\, Brasília \, DF\, 70040-911\, Brasil;X-APPLE-RADI
 US=100;X-TITLE=Instituto Atmo Danai:geo:0,0
END:VEVENT
BEGIN:VTIMEZONE
TZID:America/Sao_Paulo
X-LIC-LOCATION:America/Sao_Paulo
BEGIN:STANDARD
DTSTART:20250518T190000
TZOFFSETFROM:-0300
TZOFFSETTO:-0300
TZNAME:-03
END:STANDARD
END:VTIMEZONE
END:VCALENDAR