BEGIN:VCALENDAR
VERSION:2.0
PRODID:-//wp-events-plugin.com//7.2.2.1//EN
TZID:America/Sao_Paulo
X-WR-TIMEZONE:America/Sao_Paulo
BEGIN:VEVENT
UID:74@institutoatmodanai.com.br
DTSTART;TZID=America/Sao_Paulo:20260507T190000
DTEND;TZID=America/Sao_Paulo:20260507T220000
DTSTAMP:20260120T193624Z
URL:https://institutoatmodanai.com.br/events/drenagem-linfatica-manual-2/
SUMMARY:DRENAGEM LINFÁTICA MANUAL
DESCRIPTION:DRENAGEM LINFÁTICA MANUAL(Pantalas\, DLM Facial)\nDias: 07\, 1
 2\, 14\, 19\, 21\, 26 e 28/05\, 02\, 09 e 11/06 (noturno)\nR$780\,00 (pix)
  ou até 5x de R$173\,31\nSaiba mais &gt\;&gt\;&gt\;
CATEGORIES:Curso Livre
LOCATION:Instituto Atmo Danai\, Edifício Via Capital\, SBN Q 2 Bloco F SAL
 A 1004\, Brasília \, DF\, 70040-911\, Brasil
X-APPLE-STRUCTURED-LOCATION;VALUE=URI;X-ADDRESS=Edifício Via Capital\, SBN
  Q 2 Bloco F SALA 1004\, Brasília \, DF\, 70040-911\, Brasil;X-APPLE-RADI
 US=100;X-TITLE=Instituto Atmo Danai:geo:0,0
END:VEVENT
BEGIN:VTIMEZONE
TZID:America/Sao_Paulo
X-LIC-LOCATION:America/Sao_Paulo
BEGIN:STANDARD
DTSTART:20250507T190000
TZOFFSETFROM:-0300
TZOFFSETTO:-0300
TZNAME:-03
END:STANDARD
END:VTIMEZONE
END:VCALENDAR