BEGIN:VCALENDAR
VERSION:2.0
PRODID:-//wp-events-plugin.com//7.2.2.1//EN
TZID:America/Sao_Paulo
X-WR-TIMEZONE:America/Sao_Paulo
BEGIN:VEVENT
UID:75@institutoatmodanai.com.br
DTSTART;TZID=America/Sao_Paulo:20260616T190000
DTEND;TZID=America/Sao_Paulo:20260616T220000
DTSTAMP:20260119T233406Z
URL:https://institutoatmodanai.com.br/events/drenagem-linfatica-pos-cirurg
 ica-3/
SUMMARY:DRENAGEM LINFÁTICA PÓS-CIRÚRGICA
DESCRIPTION:DRENAGEM LINFÁTICA PÓS-CIRÚRGICA\nDias: 16\, 18 e 23/06 (not
 urno)\nR$350\,00 (pix) ou até 5x de R$77\,77\nSaiba mais &gt\;&gt\;&gt\;
CATEGORIES:Curso Livre
LOCATION:Instituto Atmo Danai\, Edifício Via Capital\, SBN Q 2 Bloco F SAL
 A 1004\, Brasília \, DF\, 70040-911\, Brasil
X-APPLE-STRUCTURED-LOCATION;VALUE=URI;X-ADDRESS=Edifício Via Capital\, SBN
  Q 2 Bloco F SALA 1004\, Brasília \, DF\, 70040-911\, Brasil;X-APPLE-RADI
 US=100;X-TITLE=Instituto Atmo Danai:geo:0,0
END:VEVENT
BEGIN:VTIMEZONE
TZID:America/Sao_Paulo
X-LIC-LOCATION:America/Sao_Paulo
BEGIN:STANDARD
DTSTART:20250616T190000
TZOFFSETFROM:-0300
TZOFFSETTO:-0300
TZNAME:-03
END:STANDARD
END:VTIMEZONE
END:VCALENDAR