BEGIN:VCALENDAR
VERSION:2.0
PRODID:-//wp-events-plugin.com//7.2.2.1//EN
TZID:America/Sao_Paulo
X-WR-TIMEZONE:America/Sao_Paulo
BEGIN:VEVENT
UID:84@institutoatmodanai.com.br
DTSTART;TZID=America/Sao_Paulo:20260613T090000
DTEND;TZID=America/Sao_Paulo:20260614T170000
DTSTAMP:20260304T230132Z
URL:https://institutoatmodanai.com.br/events/jornada-aromatica-oleos-essen
 ciais-para-cada-fase-da-vida/
SUMMARY:JORNADA AROMÁTICA - ÓLEOS ESSENCIAIS PARA CADA FASE DA VIDA
DESCRIPTION: JORNADA AROMÁTICA - ÓLEOS ESSENCIAIS PARA CADA FASE DA VIDA
 \n\nDias: 13 e 14/06\nR$684 (pix) ou até  5x R$152\nHorário: 9h às 17h
  (sáb) e 9h às 15h (dom)\n\nSaiba mais&gt\;&gt\;&gt\;&gt\;
CATEGORIES:Curso Livre
LOCATION:Instituto Atmo Danai\, Edifício Via Capital\, SBN Q 2 Bloco F SAL
 A 1004\, Brasília \, DF\, 70040-911\, Brasil
X-APPLE-STRUCTURED-LOCATION;VALUE=URI;X-ADDRESS=Edifício Via Capital\, SBN
  Q 2 Bloco F SALA 1004\, Brasília \, DF\, 70040-911\, Brasil;X-APPLE-RADI
 US=100;X-TITLE=Instituto Atmo Danai:geo:0,0
END:VEVENT
BEGIN:VTIMEZONE
TZID:America/Sao_Paulo
X-LIC-LOCATION:America/Sao_Paulo
BEGIN:STANDARD
DTSTART:20250613T090000
TZOFFSETFROM:-0300
TZOFFSETTO:-0300
TZNAME:-03
END:STANDARD
END:VTIMEZONE
END:VCALENDAR