BEGIN:VCALENDAR
VERSION:2.0
PRODID:-//wp-events-plugin.com//7.2.2.1//EN
TZID:America/Sao_Paulo
X-WR-TIMEZONE:America/Sao_Paulo
BEGIN:VEVENT
UID:63@institutoatmodanai.com.br
DTSTART;TZID=America/Sao_Paulo:20260701T090000
DTEND;TZID=America/Sao_Paulo:20260701T120000
DTSTAMP:20260422T220206Z
URL:https://institutoatmodanai.com.br/events/massagem-aromaterapeutica/
SUMMARY:MASSAGEM AROMATERAPÊUTICA
DESCRIPTION:MASSAGEM AROMATERAPÊUTICA\n\n\nDias: 01\, 03\, 08\, 10\, 15 e 
 17/07 (matutino)\n\nR$590\,00 (pix) ou até 5x de R$131\,10\n\nSaiba mais 
 &gt\;&gt\;&gt\;&gt\;
CATEGORIES:Curso Livre
LOCATION:Instituto Atmo Danai\, Edifício Via Capital\, SBN Q 2 Bloco F SAL
 A 1004\, Brasília \, DF\, 70040-911\, Brasil
X-APPLE-STRUCTURED-LOCATION;VALUE=URI;X-ADDRESS=Edifício Via Capital\, SBN
  Q 2 Bloco F SALA 1004\, Brasília \, DF\, 70040-911\, Brasil;X-APPLE-RADI
 US=100;X-TITLE=Instituto Atmo Danai:geo:0,0
END:VEVENT
BEGIN:VTIMEZONE
TZID:America/Sao_Paulo
X-LIC-LOCATION:America/Sao_Paulo
BEGIN:STANDARD
DTSTART:20250701T090000
TZOFFSETFROM:-0300
TZOFFSETTO:-0300
TZNAME:-03
END:STANDARD
END:VTIMEZONE
END:VCALENDAR