BEGIN:VCALENDAR
VERSION:2.0
PRODID:-//wp-events-plugin.com//7.2.2.1//EN
TZID:America/Sao_Paulo
X-WR-TIMEZONE:America/Sao_Paulo
BEGIN:VEVENT
UID:69@institutoatmodanai.com.br
DTSTART;TZID=America/Sao_Paulo:20260620T090000
DTEND;TZID=America/Sao_Paulo:20260620T180000
DTSTAMP:20260119T231259Z
URL:https://institutoatmodanai.com.br/events/massagem-de-liberacao-miofasc
 ial-2/
SUMMARY:MASSAGEM DE LIBERAÇÃO MIOFASCIAL
DESCRIPTION:MASSAGEM DE LIBERAÇÃO MIOFASCIAL (Pantalas\, Bambu)\n\nDias: 
 20\, 21/06 e 11\,12/07 (final de semana)\nR$780\,00 (pix) ou até 5x de R$
 173\,31\n\nSaiba mais&gt\;&gt\;&gt\;&gt\;
CATEGORIES:Curso Livre
LOCATION:Instituto Atmo Danai\, Edifício Via Capital\, SBN Q 2 Bloco F SAL
 A 1004\, Brasília \, DF\, 70040-911\, Brasil
X-APPLE-STRUCTURED-LOCATION;VALUE=URI;X-ADDRESS=Edifício Via Capital\, SBN
  Q 2 Bloco F SALA 1004\, Brasília \, DF\, 70040-911\, Brasil;X-APPLE-RADI
 US=100;X-TITLE=Instituto Atmo Danai:geo:0,0
END:VEVENT
BEGIN:VTIMEZONE
TZID:America/Sao_Paulo
X-LIC-LOCATION:America/Sao_Paulo
BEGIN:STANDARD
DTSTART:20250620T090000
TZOFFSETFROM:-0300
TZOFFSETTO:-0300
TZNAME:-03
END:STANDARD
END:VTIMEZONE
END:VCALENDAR