BEGIN:VCALENDAR
VERSION:2.0
PRODID:-//wp-events-plugin.com//7.2.2.1//EN
TZID:America/Sao_Paulo
X-WR-TIMEZONE:America/Sao_Paulo
BEGIN:VEVENT
UID:61@institutoatmodanai.com.br
DTSTART;TZID=America/Sao_Paulo:20260515T090000
DTEND;TZID=America/Sao_Paulo:20260515T120000
DTSTAMP:20260422T220134Z
URL:https://institutoatmodanai.com.br/events/massagem-de-liberacao-miofasc
 ial/
SUMMARY:MASSAGEM DE LIBERAÇÃO MIOFASCIAL
DESCRIPTION:MASSAGEM DE LIBERAÇÃO MIOFASCIAL\n\nDias: 15\, 20\, 22\, 27\,
  29/05\, 03\, 10\, 12 e 17/06 (matutino)\n\nR$780\,00 (pix) ou até 5x de
  R$173\,31\n\n\nSaiba mais&gt\;&gt\;&gt\;&gt\;
CATEGORIES:Curso Livre
LOCATION:Instituto Atmo Danai\, Edifício Via Capital\, SBN Q 2 Bloco F SAL
 A 1004\, Brasília \, DF\, 70040-911\, Brasil
X-APPLE-STRUCTURED-LOCATION;VALUE=URI;X-ADDRESS=Edifício Via Capital\, SBN
  Q 2 Bloco F SALA 1004\, Brasília \, DF\, 70040-911\, Brasil;X-APPLE-RADI
 US=100;X-TITLE=Instituto Atmo Danai:geo:0,0
END:VEVENT
BEGIN:VTIMEZONE
TZID:America/Sao_Paulo
X-LIC-LOCATION:America/Sao_Paulo
BEGIN:STANDARD
DTSTART:20250515T090000
TZOFFSETFROM:-0300
TZOFFSETTO:-0300
TZNAME:-03
END:STANDARD
END:VTIMEZONE
END:VCALENDAR