BEGIN:VCALENDAR
VERSION:2.0
PRODID:-//wp-events-plugin.com//7.2.2.1//EN
TZID:America/Sao_Paulo
X-WR-TIMEZONE:America/Sao_Paulo
BEGIN:VEVENT
UID:55@institutoatmodanai.com.br
DTSTART;TZID=America/Sao_Paulo:20260630T140000
DTEND;TZID=America/Sao_Paulo:20260630T170000
DTSTAMP:20260116T233135Z
URL:https://institutoatmodanai.com.br/events/massagem-estetica-facial-e-co
 rporal/
SUMMARY:MASSAGEM ESTÉTICA FACIAL E CORPORAL
DESCRIPTION:MASSAGEM ESTÉTICA FACIAL E CORPORAL (Crioterapia\, Termoterapi
 a\, Gessoterapia)\n\nDias: 30/06\, 02\, 07\, 09\, 14\, 16\, 21/07 (vespert
 ino)\nR$680\,00 (pix) ou até 5x de R$151\,09\n\n&nbsp\;\n\nSaiba mais&gt\
 ;&gt\;&gt\;&gt\;
CATEGORIES:Curso Livre
LOCATION:Instituto Atmo Danai\, Edifício Via Capital\, SBN Q 2 Bloco F SAL
 A 1004\, Brasília \, DF\, 70040-911\, Brasil
X-APPLE-STRUCTURED-LOCATION;VALUE=URI;X-ADDRESS=Edifício Via Capital\, SBN
  Q 2 Bloco F SALA 1004\, Brasília \, DF\, 70040-911\, Brasil;X-APPLE-RADI
 US=100;X-TITLE=Instituto Atmo Danai:geo:0,0
END:VEVENT
BEGIN:VTIMEZONE
TZID:America/Sao_Paulo
X-LIC-LOCATION:America/Sao_Paulo
BEGIN:STANDARD
DTSTART:20250630T140000
TZOFFSETFROM:-0300
TZOFFSETTO:-0300
TZNAME:-03
END:STANDARD
END:VTIMEZONE
END:VCALENDAR