BEGIN:VCALENDAR
VERSION:2.0
PRODID:-//wp-events-plugin.com//7.2.2.1//EN
TZID:America/Sao_Paulo
X-WR-TIMEZONE:America/Sao_Paulo
BEGIN:VEVENT
UID:53@institutoatmodanai.com.br
DTSTART;TZID=America/Sao_Paulo:20260528T140000
DTEND;TZID=America/Sao_Paulo:20260528T170000
DTSTAMP:20260116T232759Z
URL:https://institutoatmodanai.com.br/events/tecnicas-complementares-de-ac
 upuntura/
SUMMARY:TÉCNICAS COMPLEMENTARES DA ACUPUNTURA
DESCRIPTION:TÉCNICAS COMPLEMENTARES DA ACUPUNTURA (Ventosa\, Moxa e Gua Sh
 á)\n\nDias: 28/05\, 02\, 09 e 11/06 (vespertino)\nR$490\,00 (pix) ou até
  5x de R$108\,88\n\n\nSaiba mais&gt\;&gt\;&gt\;&gt\;
CATEGORIES:Curso Livre
LOCATION:Instituto Atmo Danai\, Edifício Via Capital\, SBN Q 2 Bloco F SAL
 A 1004\, Brasília \, DF\, 70040-911\, Brasil
X-APPLE-STRUCTURED-LOCATION;VALUE=URI;X-ADDRESS=Edifício Via Capital\, SBN
  Q 2 Bloco F SALA 1004\, Brasília \, DF\, 70040-911\, Brasil;X-APPLE-RADI
 US=100;X-TITLE=Instituto Atmo Danai:geo:0,0
END:VEVENT
BEGIN:VTIMEZONE
TZID:America/Sao_Paulo
X-LIC-LOCATION:America/Sao_Paulo
BEGIN:STANDARD
DTSTART:20250528T140000
TZOFFSETFROM:-0300
TZOFFSETTO:-0300
TZNAME:-03
END:STANDARD
END:VTIMEZONE
END:VCALENDAR