BEGIN:VCALENDAR
VERSION:2.0
PRODID:-//wp-events-plugin.com//7.2.2.1//EN
TZID:America/Sao_Paulo
X-WR-TIMEZONE:America/Sao_Paulo
BEGIN:VEVENT
UID:85@institutoatmodanai.com.br
DTSTART;TZID=America/Sao_Paulo:20260912T090000
DTEND;TZID=America/Sao_Paulo:20260913T130000
DTSTAMP:20260319T234734Z
URL:https://institutoatmodanai.com.br/events/worksho-trauma-e-presenca-ter
 apeutica/
SUMMARY:WORKSHOP TRAUMA E PRESENÇA TERAPÊUTICA
DESCRIPTION:WORKSHOP TRAUMA E PRESENÇA TERAPÊUTICA\nFundamentos para a Ma
 ssagem Somatoemocional\ncom Danielle Macedo\n\nDias: 12 e 13/09 (final de 
 semana)\nHorário: Sáb. (9h às 19h) e Dom. (9h às 13h)\n\n&nbsp\;\n\nR$
 580\,00 (pix) ou até 5x de R$$128\,87\n\nSaiba mais &gt\;&gt\;&gt\;&gt\;
CATEGORIES:Curso Livre
LOCATION:Sítio Vale das Flores\, Altiplano Leste\, Brasília\, DF\, Brasil
X-APPLE-STRUCTURED-LOCATION;VALUE=URI;X-ADDRESS=Altiplano Leste\, Brasília
 \, DF\, Brasil;X-APPLE-RADIUS=100;X-TITLE=Sítio Vale das Flores:geo:0,0
END:VEVENT
BEGIN:VTIMEZONE
TZID:America/Sao_Paulo
X-LIC-LOCATION:America/Sao_Paulo
BEGIN:STANDARD
DTSTART:20250912T090000
TZOFFSETFROM:-0300
TZOFFSETTO:-0300
TZNAME:-03
END:STANDARD
END:VTIMEZONE
END:VCALENDAR